BEGIN:VCALENDAR
VERSION:2.0
PRODID:-//wp-events-plugin.com//7.2.3.1//EN
BEGIN:VEVENT
UID:20@basaltlionsclub.com
DTSTART:20250806T180000Z
DTEND:20250806T180000Z
DTSTAMP:20250731T140644Z
URL:https://basaltlionsclub.com/events/community-talk-with-dr-bob-etemad/
SUMMARY:Understanding Your Gut: A Community Talk with Dr. Bob Etemad
DESCRIPTION:This is a rare opportunity to hear from a multi-board-certified
  specialist who has served at top institutions across the country\, from J
 efferson University Hospital in Philadelphia to the Ochsner Clinic in New 
 Orleans\, and who now calls the Roaring Fork Valley home.\nCome with your 
 questions\, invite your friends\, and enjoy an evening dedicated to better
  health and community connection.
LOCATION:Woody Creek Distillery\, @ 60 Sunset Dr\, Basalt\, Colorado (CO)\,
  81621\, United States
X-APPLE-STRUCTURED-LOCATION;VALUE=URI;X-ADDRESS=@ 60 Sunset Dr\, Basalt\, C
 olorado (CO)\, 81621\, United States;X-APPLE-RADIUS=100;X-TITLE=Woody Cree
 k Distillery:geo:0,0
END:VEVENT
END:VCALENDAR