BEGIN:VCALENDAR
VERSION:2.0
PRODID:-//wp-events-plugin.com//7.2.3.1//EN
BEGIN:VEVENT
UID:18@basaltlionsclub.com
DTSTART;VALUE=DATE:20250713
DTEND;VALUE=DATE:20250714
DTSTAMP:20250627T123043Z
URL:https://basaltlionsclub.com/events/crown-mountain-bmx-pancake-wagon-br
 eakfast/
SUMMARY:Crown Mountain BMX Pancake Wagon Breakfast
DESCRIPTION:The Basalt Lions Club will be at Crown Mountain Park with the P
 ancake Wagon serving breakfast burritos\, coffee\, orange juice\, and wate
 r during a youth BMX race.\n We’ll be accepting cash and card. We’re e
 xcited to welcome hungry racers and fans!\n
LOCATION:Crown Mountain Park\, El Jebel\, Basalt\, Colorado (CO)\, United S
 tates
X-APPLE-STRUCTURED-LOCATION;VALUE=URI;X-ADDRESS=El Jebel\, Basalt\, Colorad
 o (CO)\, United States;X-APPLE-RADIUS=100;X-TITLE=Crown Mountain Park:geo:
 0,0
END:VEVENT
END:VCALENDAR